BEGIN:VCALENDAR
METHOD:PUBLISH
VERSION:2.0
PRODID:-//Eventilla iCal Syndication//NONSGML Liana//EN
BEGIN:VEVENT
UID:y6WKo@eventilla.com
DTSTAMP:20241203T063000Z
DTSTART:20241203T063000Z
DTEND:20241203T083000Z
SUMMARY:Workshop: DEIB ja kestävien kokous- ja kongressituotteiden tuotekuvausten hiominen kansainväliselle asiakkaalle 3.12. klo 8.30-10.30
DESCRIPTION:Hio kokous- tai kongressituotteiden tuotekuvaukset myyviksi yhdessä viestintätoimisto Milttonin asiantuntijoiden kanssa! Erityinen huomio tässä työpajassa on esteettömyyden ja sosiaalisen vastuullisuuden sanoittaminen tuotekuvauksissa ja yrityksen viestinnässä. Voisiko sosiaalinen vastuullisuus  kehittää liiketoimintaa?\nOhjelma\nKlo 8.30-9.00 Tarjolla aamupalaa\nKlo 9.00 alkaen:\n\nTervetuloa\nAlustus aiheesta: Saavutettavuuden ja sosiaalisen vastuullisuuden sanoittaminen tuotekuvauksissa ja viestinnässä\, Heidi Melkas\, Senior Sustainability Consultant ja Panu Mäenpää\, johtaja\, johtava neuvonantaja\, Miltton Oy \n\n\nTyöpaja työskentelyä Milttonin johdolla; Minttu Aarniovuori\, Senior Strategist sekä Heidi Melkas ja Panu Mäenpää\n\nTilaisuus päättyy klo 10.30.\nMilttonin asiantuntijat paikalla klo 11.00. saakka - mahdollisuus kysyä lisää!\n\n \n\nHyvä tietää\n\nTyöpajoihin osallistujien on mahdollista hakea Milttonin asiantuntijoiden tarkempaa muotoiluapua tuotekuvauksille. Mukaan otetaan yhteensä 15 tuotetta.\nTyöpajoihin osallistujilla on mahdollisuus varata aika pienryhmäsparraukseen Milttonin asiantuntijoiden kanssa (varattavissa yhteensä 9 aikaa). \nTyöpajat ovat maksuttomia pääkaupunkiseudun kokous- ja kongressialan toimijoille.\nTyöpaja liittyy pääkaupunkiseudun yhteisen kokous- ja kongressihankkeen järjestämään työpajasarjaan\, jossa keskitytään tuotteistamaan ja hiomaan kestävien kokous- ja kongressituotteiden tuotekuvauksia kansainväliselle asiakkaalle eri teemojen kautta.  \n\n \nIlmoittautuminen\nPyydämme sitovat ilmoittautumiset 27.11.2024 klo 12.00 mennessä. Ilmoitathan myös mahdollisen erikoisruokavalion.\n \nSaapuminen\nSuosittelemme saapumaan paikalle julkisilla kulkuvälineillä. Hotellia lähimpänä oleva metroasema on Ruoholahti. Hotellin läheisyydessä sijaitsee myös raitiovaunupysäkkejä. Autolla saapuessa hotellissa on pysäköintimahdollisuus\, lisätietoa hotellin verkkosivuilta.\n \nEsteettömyys\nKokoustila sijaitsee Radisson Blu Seasiden ensimmäisessä kerroksessa. Tilaan on esteetön kulku.\nKOKEMO- Kongressit ja yritystapahtumat innovaatioiden ja kestävyyden moottoreina pääkaupunkiseudulla -hanke saa rahoituksensa Uudenmaan liiton kautta Euroopan Unionista. Muut rahoittajat ovat Enter Espoo Oy\, Helsingin kaupunki ja Vantaan kaupunki. Yhteistyössä Helsinki Partners.\nLisätietoja hankkeesta löydät verkkosivuiltamme.\nKuva: Sanna Kalmari / Visit Espoo\n 
LOCATION:Radisson Blu Seaside\, Ruoholahdenranta 3\, 00180\, Helsinki\,
 Suomi
URL:http://participate.enterespoo.fi/tuotekuvauksettp2
END:VEVENT
END:VCALENDAR
