BEGIN:VCALENDAR
METHOD:PUBLISH
VERSION:2.0
PRODID:-//Eventilla iCal Syndication//NONSGML Liana//EN
BEGIN:VEVENT
UID:krNlY@eventilla.com
DTSTAMP:20250213T070000Z
DTSTART:20250213T070000Z
DTEND:20250213T080000Z
SUMMARY:Webinaari: Hiilijalanjäljen pienentämisen keinoja kokous- ja kongressialalla 13.2.2025 klo 9-10.00
DESCRIPTION:Laskettuasi tärkeimpien kokous- ja kongressituotteiden hiilijalanjäljet on hyvä ottaa hetki tulosten tarkasteluun ja saada vinkkejä päästöjen pienentämiskeinoista. Ole oman alasi edelläkävijä ja hyödynnä maksuton webinaari.\nOhjelma \nKlo 9.00 Kokous- ja kongressihankkeen -hankkeen terveiset\, Karoliina Korpela\, Enter Espoo\nKlo 9.05 alkaen Sanna Taskilan\, Carbon Wise Oy johdolla\n\nKokous- ja kongressialan plveluiden hiilijalanjälki ja sen pienentäminen\n\nPäästölähteiden tyypillinen jakauma ja pienentämiskeinot\nEsimerkkejä ja inspiraatiota\n\n\nPienentämistavoitteiden asettaminen ja vaikutusten arviointi\n\nVertailu ilmaisen laskurin avulla\n\n\nKeskustelu\, yhteenveto\n\nWebinaari päättyy klo 10.00.\nYleistä\n\nwebinaari järjestetään Teams -alustalla\ntilaisuus tallennetaaan\nwebinaariin liittymisen linkki lähetetään ilmoittautuneille edellisenä päivänä\n\nIlmoittautuminen\nIlmoittaudu tilaisuuteen 11.2.2025 klo 12.00 mennessä. \n \nKOKEMO- Kongressit ja yritystapahtumat innovaatioiden ja kestävyyden moottoreina pääkaupunkiseudulla -hanke saa rahoituksensa Uudenmaan liiton kautta Euroopan Unionista. Muut rahoittajat ovat Enter Espoo Oy\, Helsingin kaupunki ja Vantaan kaupunki. Yhteistyössä Helsinki Partners.\nLisätietoja hankkeesta löydät verkkosivuiltamme.\n 
LOCATION:Teams\, Suomi
URL:http://participate.enterespoo.fi/hiilijalanjalkiwebi2
END:VEVENT
END:VCALENDAR
