BEGIN:VCALENDAR
METHOD:PUBLISH
VERSION:2.0
PRODID:-//Eventilla iCal Syndication//NONSGML Liana//EN
BEGIN:VEVENT
UID:XplX3@eventilla.com
DTSTAMP:20250514T053000Z
DTSTART:20250514T053000Z
DTEND:20250514T084500Z
SUMMARY:Inklusiivisen matkailun hyödyntämätön potentiaali 14.5.2025 klo 8.30-11.45
DESCRIPTION:Tervetuloa syventymään matkailun inklusiivisuuteen niin yritysten kuin destinaation näkökulmasta. Sokos Hotel Triplassa järjestettävä tilaisuus tarjoaa esimerkkejä mm. yhteisölähtöisistä matkailupalveluista sekä työtapojen mukauttamisen hyödyistä koko henkilökunnalle ja yritykselle. Paneelikeskustelussa kuullaan\, miten huomioida monimuotoiset kohderyhmät entistä paremmin esimerkiksi erilaisten tilaisuuksien järjestämisessä. \nLiity mukaan rakentamaan matkailu-alaa ja palveluita\, jotka ovat mahdollisia kaikille!\n \nOhjelma\nKlo 8.30-9.00 Verkostoitumista aamukahvien ja aamupalan merkeissä.\nKlo 9.00 alkaen:\n\nTervetuloa\, Tommo Koivusalo\, elinvoimajohtaja\, Vantaan kaupunki\nTerveiset pääkaupunkiseudun kokous- ja kongressihankkeesta\, Karoliina Korpela\, projektipäällikkö\, Enter Espoo\nInkluusion oivaltaminen - kohti aidosti inklusiivista matkailuelinkeinoa\, Tuuli Pulkkinen\, Väitöskirjatutkija\, Itä-Suomen yliopisto\nTarjolla olevia työkaluja esteettömien tapahtumien ja tilaisuuksien järjestämisen tueksi\n\n\nTauko\n\n\nBenchmarkit\n\nData and Design for Inclusive Community Tourism Development\, Barry Rodgers\, Director of Destination Strategy at TOPOSOPHY\nCommunity Based Travel Activities ja Company Social Responsility Adventure Apesin vastuullisuustyössä\, Heidi Savolainen\, yrittäjä\, Adventure Apes\nMonimuotoinen ja hyvinvoiva henkilöstö Retkipaikassa\, Antti Huttunen\, yrittäjä\, Retkipaikka\n\n\n\n\nPaneelikeskustelu "Miten huomioida paremmin eri kohderyhmät tapahtuman/tilaisuuden järjestämisessä?"\n\nAntti Huttunen\, Retkipaikka\nTuuli Pulkkinen\, Itä-Suomen yliopisto\nHeidi Savolainen\, Adventure Apes\n\n\n\nTilaisuus päättyy klo 11.45.\nTilaisuuden juontajana toimii Anni Kyröläinen\, Riesa Oy.\nTilaisuus toteutetaan yhteistyössä Enter Espoon sekä Helsingin ja Vantaan kaupungin kanssa.\nIlmoittautuminen\nPyydämme sitovat ilmoittautumiset 7.5.2025 klo 12.00 mennessä. Ilmoitathan myös mahdollisen erikoisruokavalion.\nSaapuminen\nSuosittelemme saapumaan paikalle julkisilla kulkuvälineillä. Hotellin läheisyydessä sijaitsevista pysäköintimahdollisuuksista lisätietoa hotellin verkkosivuilla.\nEsteettömyys\nHotellin kokoustiloihin on esteetön kulku ja kokoustila on esteetön. Esteettömistä pysäköintipaikoista tarkempaa tietoa hotellin verkkosivuilta. \n \nKOKEMO- Kongressit ja yritystapahtumat innovaatioiden ja kestävyyden moottoreina pääkaupunkiseudulla -hanke saa rahoituksensa Uudenmaan liiton kautta Euroopan Unionista. Muut rahoittajat ovat Enter Espoo Oy\, Helsingin kaupunki ja Vantaan kaupunki. Yhteistyössä Helsinki Partners.\nLisätietoja hankkeesta löydät verkkosivuiltamme.\nKuva: Visit Espoo / Sanna Kalmari.\n 
LOCATION:Original Sokos Hotel Tripla\, Fredikanterassi 1\, 00520\,
 Helsinki\, Suomi
URL:http://participate.enterespoo.fi/inklusiivinenmatkailu
END:VEVENT
END:VCALENDAR
