BEGIN:VCALENDAR
METHOD:PUBLISH
VERSION:2.0
PRODID:-//Eventilla iCal Syndication//NONSGML Liana//EN
BEGIN:VEVENT
UID:LyQO3@eventilla.com
DTSTAMP:20240605T053000Z
DTSTART:20240605T053000Z
DTEND:20240605T080000Z
SUMMARY:Pääkaupunkiseudun kokous- ja kongressihankkeen kick off 5.6.
DESCRIPTION:Pääkaupunkiseudusta halutaan tehdä maailman kestävin ja samalla houkuttelevin kokous- ja kongressikohde. Toimia viedään eteenpäin pääkaupunkiseudun yhteisen Kongressit ja yritystapahtumat innovaatioiden ja kestävyyden moottoreina -hankkeen avulla.\nTervetuloa hankkeen kick off -tilaisuuteen kuulemaan\, miten ja millä toimenpiteillä tavoitteeseen päästään. Ja miksi me tarvitsemme juuri sinut ja yrityksenne mukaan!\nLuvassa puheenvuoroja kokous- ja kongressialan kestävyydestä niin palveluiden tarjoajien kuin asiakkaidenkin näkökulmasta.\nOhjelma\nKlo 8.30-9.00 Verkostoitumista aamukahvien ja aamupalan merkeissä.\nKlo 9.00 alkaen:\nTervetuloa \nCase puheenvuorot: Matkailuyritysten kokemukset kestävyydestä myyntivalttina. Janne Engberg\, Senior Sales Manager\, Strawberry Finland\nMarcus Bergström\, Liiketoimintajohtaja\, Messukeskus\nJohanna Vappula\, Senior Sales Manager\, Finlandia-talo\nValmistaudu vastuullisuusviestinnän yrityssääntelyyn ja hyödynnä kilpailuetu\, Elina Palkama\, johtava vastuullisuusviestinnän asiantuntija\, Kaskas Media Oy\nMitä hyötyä hankkeesta on yrityksille ja millä toimilla päätavoitteeseen päästään?Karoliina Korpela\, kokous- ja kongressihankkeen projektipäällikkö\, Enter Espoo Oy\nCase Nordic Ways: Miten kansainväliset kongressi- ja yritystapahtuma-asiakkaat kokevat pääkaupunkiseudun? Roberta Perez\, CEO\, Nordic Ways\nTilaisuus päättyy klo 11.00.\nMahdollisuus talokierrokseen halukkaille tilaisuuden jälkeen.\nIlmoittautuminen\nPyydämme sitovat ilmoittautumiset 30.5.2024 klo 12.00 mennessä. Ilmoitathan myös mahdollisen erikoisruokavalion.\nSaapuminen\nSuosittelemme saapumaan paikalle julkisilla kulkuvälineillä. Clarion Hotel Helsinki Airportiin pääset kätevästi sisäkautta suoraan lentoaseman juna-asemalta. Lisätiedot saapumisesta suoraan hotellin verkkosivuilta.\nKOKEMO- Kongressit ja yritystapahtumat innovaatioiden ja kestävyyden moottoreina pääkaupunkiseudulla -hanke saa rahoituksensa Uudenmaan liiton kautta Euroopan Unionista. Muut rahoittajat ovat Enter Espoo Oy\, Helsingin kaupunki ja Vantaan kaupunki. Yhteistyössä Helsinki Partners.\nLisätietoja hankkeesta löydät verkkosivuiltamme.\n 
LOCATION:Clarion Hotel Helsinki Airport\, Taivastie 3\, 01530\, Vantaa
URL:http://participate.enterespoo.fi/kongressihankekickoff
END:VEVENT
END:VCALENDAR
